BEGIN:VCALENDAR
VERSION:2.0
PRODID:-//afscme34 - ECPv5.1.5//NONSGML v1.0//EN
CALSCALE:GREGORIAN
METHOD:PUBLISH
X-WR-CALNAME:afscme34
X-ORIGINAL-URL:https://afscme34.org/wp
X-WR-CALDESC:Events for afscme34
BEGIN:VTIMEZONE
TZID:America/Chicago
BEGIN:DAYLIGHT
TZOFFSETFROM:-0600
TZOFFSETTO:-0500
TZNAME:CDT
DTSTART:20210314T080000
END:DAYLIGHT
BEGIN:STANDARD
TZOFFSETFROM:-0500
TZOFFSETTO:-0600
TZNAME:CST
DTSTART:20211107T070000
END:STANDARD
END:VTIMEZONE
BEGIN:VEVENT
DTSTART;TZID=America/Chicago:20210616T080000
DTEND;TZID=America/Chicago:20210616T170000
DTSTAMP:20260424T052908
CREATED:20210520T001310Z
LAST-MODIFIED:20210520T001310Z
UID:2849-1623830400-1623862800@afscme34.org
SUMMARY:June Board Meeting
DESCRIPTION:Our General Assemblies will be on Zoom meeting: \nTopic: AFSCME Local 34 Board Meeting\nTime: Jun 16\, 2021 05:30 PM05:30 PM Central Time (US and Canada)\n        Every month on the Third Wed\, 3 occurrence(s)\n        Jul 21\, 2021 05:30 PM\n        Aug 18\, 2021 05:30 PM\n        Sep 15\, 2021 05:30 PM\nPlease download and import the following iCalendar (.ics) files to your calendar system.\nMonthly: https://us02web.zoom.us/meeting/tZ0qc-GgpjMqE9ZFwLRgyLxqpFioDXJa5Gye/ics?icsToken=98tyKuGhqT8iEtydsBCFRpx5B4-gWfzxiFxfj_pnugjJMSdKThvnJsRLPZZHOtmF \nJoin Zoom Meeting\nhttps://us02web.zoom.us/j/89748888092 \nMeeting ID: 897 4888 8092\nOne tap mobile\n+13126266799\,\,89748888092# US (Chicago)\n+19294362866\,\,89748888092# US (New York) \nDial by your location\n        +1 312 626 6799 US (Chicago)\n        +1 929 436 2866 US (New York)\n        +1 301 715 8592 US (Washington DC)\n        +1 346 248 7799 US (Houston)\n        +1 669 900 6833 US (San Jose)\n        +1 253 215 8782 US (Tacoma)\nMeeting ID: 897 4888 8092\nFind your local number: https://us02web.zoom.us/u/kdGFVUIc3S \n
URL:https://afscme34.org/wp/event/june-board-meeting/
END:VEVENT
END:VCALENDAR