BEGIN:VCALENDAR
VERSION:2.0
PRODID:-//afscme34 - ECPv5.1.5//NONSGML v1.0//EN
CALSCALE:GREGORIAN
METHOD:PUBLISH
X-WR-CALNAME:afscme34
X-ORIGINAL-URL:https://afscme34.org/wp
X-WR-CALDESC:Events for afscme34
BEGIN:VTIMEZONE
TZID:America/Chicago
BEGIN:DAYLIGHT
TZOFFSETFROM:-0600
TZOFFSETTO:-0500
TZNAME:CDT
DTSTART:20220313T080000
END:DAYLIGHT
BEGIN:STANDARD
TZOFFSETFROM:-0500
TZOFFSETTO:-0600
TZNAME:CST
DTSTART:20221106T070000
END:STANDARD
END:VTIMEZONE
BEGIN:VEVENT
DTSTART;TZID=America/Chicago:20220119T100000
DTEND;TZID=America/Chicago:20220119T140000
DTSTAMP:20260423T180049
CREATED:20220112T182226Z
LAST-MODIFIED:20220112T182226Z
UID:2986-1642586400-1642600800@afscme34.org
SUMMARY:UNION INFO PICKET @ South MPLS Hub! ✊
DESCRIPTION:\nMost IMPORTANT ACTION to show the County we are Serious! Local 34 will do an Info Picket at the South Minneapolis Hub on Lake Street and Hiawatha. Join for as little or as long as you can between 10 am and 2pm. (An Info Picket is like a Strike Picket\, but we are doing it on our own time\, we are not sacrificing our pay. Use flex time\, or leave time and Join Us!!)\nNOW IS THE TIME TO SHOW THE COUNTY WE NEED A BETTER CONTRACT OFFER THAT RESPECTS OUR WORK!! \nNow more than ever\, we need to stand together in solidarity with each other. No matter how we voted individually\, or if we did not vote at all\, we are all in this together. We will only be successful in getting what our members want and what we all deserve if we stay united and reject the County’s efforts to divide us. \n
URL:https://afscme34.org/wp/event/union-info-picket-south-mpls-hub-%e2%9c%8a/
LOCATION:South Minneapolis Hub\, 2215 East Lake Street\, Minneapolis\, MN\, 55407
ORGANIZER;CN="Yunu%C3%A9n":MAILTO:yunuenavila.union@gmail.com
END:VEVENT
BEGIN:VEVENT
DTSTART;TZID=America/Chicago:20220119T173000
DTEND;TZID=America/Chicago:20220119T200000
DTSTAMP:20260423T180049
CREATED:20211230T015221Z
LAST-MODIFIED:20211230T015221Z
UID:2910-1642613400-1642622400@afscme34.org
SUMMARY:AFSCME 34 E-Board mtg
DESCRIPTION:AFSCME Local 34 is inviting you to a scheduled Zoom meeting. \nTopic: AFSCME 34 E-Board mtg\nTime: Jan 19\, 2022 05:30 PM Central Time (US and Canada)\n        Every month on the Third Wed\, 11 occurrence(s)\n        Jan 19\, 2022 05:30 PM\n        Feb 16\, 2022 05:30 PM\n        Mar 16\, 2022 05:30 PM\n        Apr 20\, 2022 05:30 PM\n        May 18\, 2022 05:30 PM\n        Jun 15\, 2022 05:30 PM\n        Jul 20\, 2022 05:30 PM\n        Aug 17\, 2022 05:30 PM\n        Sep 21\, 2022 05:30 PM\n        Oct 19\, 2022 05:30 PM\n        Nov 16\, 2022 05:30 PM\nPlease download and import the following iCalendar (.ics) files to your calendar system.\nMonthly: https://us02web.zoom.us/meeting/tZcldu-rqjsuE9EIz5-QilVwMf8fegGmskh2/ics?icsToken=98tyKuGrpjosGdCVtBCCRpwqGoj4M-nwiGJbj_p4tQWwThFabjXhG-QaNLd4N9XD \nJoin Zoom Meeting\nhttps://us02web.zoom.us/j/83816340495?pwd=VkZBbFlwS2V3Q1p4SVBLODN3TG96Zz09 \nMeeting ID: 838 1634 0495\nPasscode: 140558\nOne tap mobile\n+13017158592\,\,83816340495#\,\,\,\,*140558# US (Washington DC)\n+13126266799\,\,83816340495#\,\,\,\,*140558# US (Chicago) \nDial by your location\n        +1 301 715 8592 US (Washington DC)\n        +1 312 626 6799 US (Chicago)\n        +1 646 558 8656 US (New York)\n        +1 253 215 8782 US (Tacoma)\n        +1 346 248 7799 US (Houston)\n        +1 669 900 9128 US (San Jose)\nMeeting ID: 838 1634 0495\nPasscode: 140558\nFind your local number: https://us02web.zoom.us/u/kcYQgTSRtn \n
URL:https://afscme34.org/wp/event/afscme-34-e-board-mtg/
LOCATION:Zoom Meeting\, MN\, United States
END:VEVENT
BEGIN:VEVENT
DTSTART;TZID=America/Chicago:20220119T183000
DTEND;TZID=America/Chicago:20220119T200000
DTSTAMP:20260423T180049
CREATED:20220119T001533Z
LAST-MODIFIED:20220119T001558Z
UID:2991-1642617000-1642622400@afscme34.org
SUMMARY:AFSCME Local 34 & 2822 Town Hall
DESCRIPTION:Please register for our Town Hall for AFSCME Membes only: https://us02web.zoom.us/meeting/register/tZUuf-2qqTwoGdOQjnsOQFNfjss3fk9-bThm \n
URL:https://afscme34.org/wp/event/afscme-local-34-2822-town-hall/
LOCATION:Zoom Meeting\, MN\, United States
ORGANIZER;CN="Grace%20Baltich":MAILTO:gracebaltich.union@gmail.com
END:VEVENT
END:VCALENDAR