BEGIN:VCALENDAR
VERSION:2.0
PRODID:-//afscme34 - ECPv5.1.5//NONSGML v1.0//EN
CALSCALE:GREGORIAN
METHOD:PUBLISH
X-WR-CALNAME:afscme34
X-ORIGINAL-URL:https://afscme34.org/wp
X-WR-CALDESC:Events for afscme34
BEGIN:VTIMEZONE
TZID:America/Chicago
BEGIN:DAYLIGHT
TZOFFSETFROM:-0600
TZOFFSETTO:-0500
TZNAME:CDT
DTSTART:20220313T080000
END:DAYLIGHT
BEGIN:STANDARD
TZOFFSETFROM:-0500
TZOFFSETTO:-0600
TZNAME:CST
DTSTART:20221106T070000
END:STANDARD
END:VTIMEZONE
BEGIN:VEVENT
DTSTART;TZID=America/Chicago:20220122T110000
DTEND;TZID=America/Chicago:20220122T123000
DTSTAMP:20260423T180127
CREATED:20220119T001859Z
LAST-MODIFIED:20220119T001859Z
UID:2995-1642849200-1642854600@afscme34.org
SUMMARY:AFSCME Local 34 & 2822 Town Hall
DESCRIPTION:This Town Hall is for AFSCME members only. Register ahead of time at: https://us02web.zoom.us/meeting/register/tZMtc-mrrT8oG90O0BDiHuNWYwC4w6Yf3GKg \n
URL:https://afscme34.org/wp/event/afscme-local-34-2822-town-hall-3/
LOCATION:Zoom Meeting\, MN\, United States
ORGANIZER;CN="Grace%20Baltich":MAILTO:gracebaltich.union@gmail.com
END:VEVENT
END:VCALENDAR