BEGIN:VCALENDAR
VERSION:2.0
PRODID:-//afscme34 - ECPv5.1.5//NONSGML v1.0//EN
CALSCALE:GREGORIAN
METHOD:PUBLISH
X-WR-CALNAME:afscme34
X-ORIGINAL-URL:https://afscme34.org/wp
X-WR-CALDESC:Events for afscme34
BEGIN:VTIMEZONE
TZID:America/Chicago
BEGIN:DAYLIGHT
TZOFFSETFROM:-0600
TZOFFSETTO:-0500
TZNAME:CDT
DTSTART:20220313T080000
END:DAYLIGHT
BEGIN:STANDARD
TZOFFSETFROM:-0500
TZOFFSETTO:-0600
TZNAME:CST
DTSTART:20221106T070000
END:STANDARD
END:VTIMEZONE
BEGIN:VEVENT
DTSTART;TZID=America/Chicago:20221116T173000
DTEND;TZID=America/Chicago:20221116T200000
DTSTAMP:20260423T012320
CREATED:20211230T020727Z
LAST-MODIFIED:20211230T020727Z
UID:2930-1668619800-1668628800@afscme34.org
SUMMARY:AFSCME 34 E-Board mtg
DESCRIPTION:AFSCME Local 34 is inviting you to a scheduled Zoom meeting. \nTopic: AFSCME 34 E-Board mtg\nTime:  Nov 16\, 2022 05:30 PM  \nPlease download and import the following iCalendar (.ics) files to your calendar system.\nMonthly: https://us02web.zoom.us/meeting/tZcldu-rqjsuE9EIz5-QilVwMf8fegGmskh2/ics?icsToken=98tyKuGrpjosGdCVtBCCRpwqGoj4M-nwiGJbj_p4tQWwThFabjXhG-QaNLd4N9XD \nJoin Zoom Meeting\nhttps://us02web.zoom.us/j/83816340495?pwd=VkZBbFlwS2V3Q1p4SVBLODN3TG96Zz09 \nMeeting ID: 838 1634 0495\nPasscode: 140558\nOne tap mobile\n+13126266799\,\,83816340495#\,\,\,\,*140558# US (Chicago) \nDial by your location\n        +1 301 715 8592 US (Washington DC) \nMeeting ID: 838 1634 0495\nPasscode: 140558\nFind your local number: https://us02web.zoom.us/u/kcYQgTSRtn \n
URL:https://afscme34.org/wp/event/afscme-34-e-board-mtg-11/
LOCATION:Zoom Meeting\, MN\, United States
ORGANIZER;CN="Grace%20Baltich":MAILTO:gracebaltich.union@gmail.com
END:VEVENT
END:VCALENDAR